BEGIN:VCALENDAR
VERSION:2.0
PRODID:-//Les hEIRbes libres | Boissons et herboristerie Paysannes en Normandie - ECPv6.15.17.1//NONSGML v1.0//EN
CALSCALE:GREGORIAN
METHOD:PUBLISH
X-WR-CALNAME:Les hEIRbes libres | Boissons et herboristerie Paysannes en Normandie
X-ORIGINAL-URL:https://lesheirbeslibres.fdn.fr
X-WR-CALDESC:Évènements pour Les hEIRbes libres | Boissons et herboristerie Paysannes en Normandie
REFRESH-INTERVAL;VALUE=DURATION:PT1H
X-Robots-Tag:noindex
X-PUBLISHED-TTL:PT1H
BEGIN:VTIMEZONE
TZID:Europe/Paris
BEGIN:DAYLIGHT
TZOFFSETFROM:+0100
TZOFFSETTO:+0200
TZNAME:CEST
DTSTART:20250330T010000
END:DAYLIGHT
BEGIN:STANDARD
TZOFFSETFROM:+0200
TZOFFSETTO:+0100
TZNAME:CET
DTSTART:20251026T010000
END:STANDARD
BEGIN:DAYLIGHT
TZOFFSETFROM:+0100
TZOFFSETTO:+0200
TZNAME:CEST
DTSTART:20260329T010000
END:DAYLIGHT
BEGIN:STANDARD
TZOFFSETFROM:+0200
TZOFFSETTO:+0100
TZNAME:CET
DTSTART:20261025T010000
END:STANDARD
BEGIN:DAYLIGHT
TZOFFSETFROM:+0100
TZOFFSETTO:+0200
TZNAME:CEST
DTSTART:20270328T010000
END:DAYLIGHT
BEGIN:STANDARD
TZOFFSETFROM:+0200
TZOFFSETTO:+0100
TZNAME:CET
DTSTART:20271031T010000
END:STANDARD
END:VTIMEZONE
BEGIN:VEVENT
DTSTART;VALUE=DATE:20260425
DTEND;VALUE=DATE:20260427
DTSTAMP:20260425T013355
CREATED:20260408T182550Z
LAST-MODIFIED:20260408T182550Z
UID:1073-1777075200-1777247999@lesheirbeslibres.fdn.fr
SUMMARY:Rendez-vous aux jardins de La Londe
DESCRIPTION:Rendez-vous aux jardins de La Londe (Seine-Maritime\, 76). Retrouvez sur notre stand nos tisanes\, kéfirs\, pétillants\, aromates\, et surtout\, des plants potagers! \nPlus d’infos sur le site : http://www.mairie-la-londe.fr/programmation-des-manifestations/rendez-vous-aux-jardins \nPour découvrir nos produits ou les précommander pour l’évènement\, rendez-vous ICI \n\nInformations pratiques :\n⏱️ Horaires : 14h-18h30 le samedi\, 10h-18h00 le dimanche\n📍 Lieu : Ville de La Londe\n🎫 Accès : Entrée libre et gratuite.
URL:https://lesheirbeslibres.fdn.fr/event/rendez-vous-aux-jardins-de-la-londe/
LOCATION:La Londe\, La Londe\, 76500\, France
CATEGORIES:Foires
ATTACH;FMTTYPE=image/jpeg:https://lesheirbeslibres.fdn.fr/wp-content/uploads/2026/04/Rendez-vous-aux-jardins-300x201-1.jpg
ORGANIZER;CN="Alice":MAILTO:lesheirbeslibres@fdn.fr
END:VEVENT
BEGIN:VEVENT
DTSTART;TZID=Europe/Paris:20260425T100000
DTEND;TZID=Europe/Paris:20260425T123000
DTSTAMP:20260425T013355
CREATED:20260408T183123Z
LAST-MODIFIED:20260408T183123Z
UID:1083-1777111200-1777120200@lesheirbeslibres.fdn.fr
SUMMARY:Vente à la ferme
DESCRIPTION:Vente à la ferme\, accès par la route de croisette\, intersection avec la rue de la Cannerie. \nToute l’année\, venez découvrir nos tisanes\, limonades naturelles aux plantes\, oxymels et autres produits de la ferme.  \nAu printemps (mi-avril\, mi-mai)\, nous proposons également nos plants potagers\, d’aromatiques et médicinales. \nLe catalogue des plants proposés est disponible ici \nPossibilité de précommander vos produits sur coop circuit
URL:https://lesheirbeslibres.fdn.fr/event/vente-a-la-ferme-15/
LOCATION:La ferme des hEIRbes Libres\, 2700 Route de croisette\, Morainville-Jouveaux\, Normandie\, 27260\, France
ATTACH;FMTTYPE=image/jpeg:https://lesheirbeslibres.fdn.fr/wp-content/uploads/2025/04/unnamed.jpg
END:VEVENT
END:VCALENDAR